BEGIN:VCALENDAR
VERSION:2.0
PRODID:-//www.lowerplatte.org//NONSGML kigkonsult.se iCalcreator 2.30.10//
CALSCALE:GREGORIAN
METHOD:PUBLISH
UID:8720af7e-6349-466a-85eb-f3fcac325348
X-WR-CALDESC:
X-WR-RELCALID:30c87a5d86295a402a0a1b19db493a0b
X-WR-TIMEZONE:America/Chicago
BEGIN:VTIMEZONE
TZID:America/Chicago
BEGIN:STANDARD
TZNAME:CST
DTSTART:20181104T020000
TZOFFSETFROM:-0500
TZOFFSETTO:-0600
RDATE:20191103T020000
END:STANDARD
BEGIN:DAYLIGHT
TZNAME:CDT
DTSTART:20180311T020000
TZOFFSETFROM:-0600
TZOFFSETTO:-0500
RDATE:20190310T020000
RDATE:20200308T020000
END:DAYLIGHT
END:VTIMEZONE
BEGIN:VEVENT
UID:3ba60e20-b2cd-4df1-b453-eb3b395f27ea
DTSTAMP:20260422T091300Z
DESCRIPTION:
DTSTART;TZID=America/Chicago:20181114T190000
DTEND;TZID=America/Chicago:20181114T210000
LOCATION:LPSNRD Office\, Lincoln
SUMMARY:LPSNRD Board Meeting
END:VEVENT
END:VCALENDAR
