BEGIN:VCALENDAR
VERSION:2.0
PRODID:-//www.lowerplatte.org//NONSGML kigkonsult.se iCalcreator 2.30.10//
CALSCALE:GREGORIAN
METHOD:PUBLISH
UID:d23111bd-180b-45d4-a965-3a60ea07fa77
X-WR-CALDESC:
X-WR-RELCALID:d75fd91e8a971edf779e490b5b633dde
X-WR-TIMEZONE:America/Chicago
BEGIN:VTIMEZONE
TZID:America/Chicago
BEGIN:STANDARD
TZNAME:CST
DTSTART:20181104T020000
TZOFFSETFROM:-0500
TZOFFSETTO:-0600
RDATE:20191103T020000
END:STANDARD
BEGIN:DAYLIGHT
TZNAME:CDT
DTSTART:20180311T020000
TZOFFSETFROM:-0600
TZOFFSETTO:-0500
RDATE:20190310T020000
RDATE:20200308T020000
END:DAYLIGHT
END:VTIMEZONE
BEGIN:VEVENT
UID:f76ec2e2-eef0-4c4c-9c4f-fee26dab24b9
DTSTAMP:20260420T173425Z
DESCRIPTION:
DTSTART;TZID=America/Chicago:20190211T180000
DTEND;TZID=America/Chicago:20190211T220000
LOCATION:LPNNRD Office\, Wahoo
SUMMARY:LPNNRD Board Meeting
END:VEVENT
END:VCALENDAR
