BEGIN:VCALENDAR
VERSION:2.0
PRODID:-//www.lowerplatte.org//NONSGML kigkonsult.se iCalcreator 2.30.10//
CALSCALE:GREGORIAN
METHOD:PUBLISH
UID:0ef099d5-5bd2-43c9-974a-e5f8e5bcadb6
X-WR-CALDESC:
X-WR-RELCALID:720bd129df35ea5a21a3f60c9e0a351e
X-WR-TIMEZONE:America/Chicago
BEGIN:VTIMEZONE
TZID:America/Chicago
BEGIN:STANDARD
TZNAME:CST
DTSTART:20181104T020000
TZOFFSETFROM:-0500
TZOFFSETTO:-0600
RDATE:20191103T020000
END:STANDARD
BEGIN:DAYLIGHT
TZNAME:CDT
DTSTART:20190310T020000
TZOFFSETFROM:-0600
TZOFFSETTO:-0500
RDATE:20200308T020000
END:DAYLIGHT
END:VTIMEZONE
BEGIN:VEVENT
UID:12050ba5-91dc-4e93-9e75-f7d05990664e
DTSTAMP:20260420T154912Z
DESCRIPTION:
DTSTART;TZID=America/Chicago:20190320T140000
DTEND;TZID=America/Chicago:20190320T160000
LOCATION:LPSNRD Office\, Lincoln
SUMMARY:LPSNRD Board Meeting
END:VEVENT
END:VCALENDAR
