BEGIN:VCALENDAR
VERSION:2.0
PRODID:-//www.lowerplatte.org//NONSGML kigkonsult.se iCalcreator 2.30.10//
CALSCALE:GREGORIAN
METHOD:PUBLISH
UID:3db0515f-0852-47bf-a9b8-88beff30e8c8
X-WR-CALDESC:
X-WR-RELCALID:7298e02046dcaa8e86c611ae44bf0202
X-WR-TIMEZONE:America/Chicago
BEGIN:VTIMEZONE
TZID:America/Chicago
BEGIN:STANDARD
TZNAME:CST
DTSTART:20181104T020000
TZOFFSETFROM:-0500
TZOFFSETTO:-0600
RDATE:20191103T020000
END:STANDARD
BEGIN:DAYLIGHT
TZNAME:CDT
DTSTART:20190310T020000
TZOFFSETFROM:-0600
TZOFFSETTO:-0500
RDATE:20200308T020000
END:DAYLIGHT
END:VTIMEZONE
BEGIN:VEVENT
UID:a8230be9-9ece-4e97-8786-4b9a74f0eb62
DTSTAMP:20260422T105737Z
DESCRIPTION:
DTSTART;TZID=America/Chicago:20190411T190000
DTEND;TZID=America/Chicago:20190411T230000
LOCATION:Papio NRD Office
SUMMARY:P-MRNRD Board Meeting
END:VEVENT
END:VCALENDAR
