BEGIN:VCALENDAR
VERSION:2.0
PRODID:-//www.lowerplatte.org//NONSGML kigkonsult.se iCalcreator 2.30.10//
CALSCALE:GREGORIAN
METHOD:PUBLISH
UID:560bdbea-b6cb-42d2-95a3-a5dc801fb423
X-WR-CALDESC:
X-WR-RELCALID:04a4af7dc2774ee3eb6b0d5dda7ac8e0
X-WR-TIMEZONE:America/Chicago
BEGIN:VTIMEZONE
TZID:America/Chicago
BEGIN:STANDARD
TZNAME:CST
DTSTART:20181104T020000
TZOFFSETFROM:-0500
TZOFFSETTO:-0600
RDATE:20191103T020000
RDATE:20201101T020000
END:STANDARD
BEGIN:DAYLIGHT
TZNAME:CDT
DTSTART:20190310T020000
TZOFFSETFROM:-0600
TZOFFSETTO:-0500
RDATE:20200308T020000
END:DAYLIGHT
END:VTIMEZONE
BEGIN:VEVENT
UID:2d7731bc-23f9-4d7c-8c8c-d09918161041
DTSTAMP:20260424T103232Z
DESCRIPTION:
DTSTART;TZID=America/Chicago:20190717T190000
DTEND;TZID=America/Chicago:20190717T210000
LOCATION:LPSNRD Office\, Lincoln
SUMMARY:LPSNRD Board Meeting
END:VEVENT
END:VCALENDAR
