BEGIN:VCALENDAR
VERSION:2.0
PRODID:-//www.lowerplatte.org//NONSGML kigkonsult.se iCalcreator 2.30.10//
CALSCALE:GREGORIAN
METHOD:PUBLISH
UID:5f895f79-c8d5-4af9-bf68-257da43b19fd
X-WR-CALDESC:
X-WR-RELCALID:e1896047d2ba6a17195debbc2991c698
X-WR-TIMEZONE:America/Chicago
BEGIN:VTIMEZONE
TZID:America/Chicago
BEGIN:STANDARD
TZNAME:CST
DTSTART:20181104T020000
TZOFFSETFROM:-0500
TZOFFSETTO:-0600
RDATE:20191103T020000
RDATE:20201101T020000
END:STANDARD
BEGIN:DAYLIGHT
TZNAME:CDT
DTSTART:20190310T020000
TZOFFSETFROM:-0600
TZOFFSETTO:-0500
RDATE:20200308T020000
RDATE:20210314T020000
END:DAYLIGHT
END:VTIMEZONE
BEGIN:VEVENT
UID:6027ba73-575e-488c-82cb-08a3d6744489
DTSTAMP:20260420T145914Z
DESCRIPTION:
DTSTART;TZID=America/Chicago:20191016T100000
DTEND;TZID=America/Chicago:20191016T120000
LOCATION:
SUMMARY:LPRCA meeting
END:VEVENT
END:VCALENDAR
