BEGIN:VCALENDAR
VERSION:2.0
PRODID:-//www.lowerplatte.org//NONSGML kigkonsult.se iCalcreator 2.30.10//
CALSCALE:GREGORIAN
METHOD:PUBLISH
UID:ce2a8df8-237a-4523-a7ef-8326579168d9
X-WR-CALDESC:
X-WR-RELCALID:689f3af805bfa959fd6ad3391243f275
X-WR-TIMEZONE:America/Chicago
BEGIN:VTIMEZONE
TZID:America/Chicago
BEGIN:STANDARD
TZNAME:CST
DTSTART:20201101T020000
TZOFFSETFROM:-0500
TZOFFSETTO:-0600
RDATE:20211107T020000
END:STANDARD
BEGIN:DAYLIGHT
TZNAME:CDT
DTSTART:20200308T020000
TZOFFSETFROM:-0600
TZOFFSETTO:-0500
RDATE:20210314T020000
RDATE:20220313T020000
END:DAYLIGHT
END:VTIMEZONE
BEGIN:VEVENT
UID:034349de-672c-498c-8839-4c5f0a474fc0
DTSTAMP:20260422T050407Z
DESCRIPTION:
DTSTART;TZID=America/Chicago:20210208T180000
DTEND;TZID=America/Chicago:20210208T220000
LOCATION:LPNNRD Office\, Wahoo
SUMMARY:LPNNRD Board Meeting
END:VEVENT
END:VCALENDAR
