BEGIN:VCALENDAR
VERSION:2.0
PRODID:-//www.lowerplatte.org//NONSGML kigkonsult.se iCalcreator 2.30.10//
CALSCALE:GREGORIAN
METHOD:PUBLISH
UID:1548a0ff-b1b6-41e8-bb54-69e00ea52055
X-WR-CALDESC:
X-WR-RELCALID:69d18f1abe3d34f45663ff868e197e12
X-WR-TIMEZONE:America/Chicago
BEGIN:VTIMEZONE
TZID:America/Chicago
BEGIN:STANDARD
TZNAME:CST
DTSTART:20201101T020000
TZOFFSETFROM:-0500
TZOFFSETTO:-0600
RDATE:20211107T020000
RDATE:20221106T020000
END:STANDARD
BEGIN:DAYLIGHT
TZNAME:CDT
DTSTART:20210314T020000
TZOFFSETFROM:-0600
TZOFFSETTO:-0500
RDATE:20220313T020000
END:DAYLIGHT
END:VTIMEZONE
BEGIN:VEVENT
UID:5e3c4f61-9859-491d-9c18-aaf2b3e7423f
DTSTAMP:20260422T000628Z
DESCRIPTION:
DTSTART;TZID=America/Chicago:20210514T100000
DTEND;TZID=America/Chicago:20210514T120000
LOCATION:
SUMMARY:LPRCA Bi-Annual Meeting
END:VEVENT
END:VCALENDAR
