BEGIN:VCALENDAR
VERSION:2.0
PRODID:-//www.lowerplatte.org//NONSGML kigkonsult.se iCalcreator 2.30.10//
CALSCALE:GREGORIAN
METHOD:PUBLISH
UID:6922d165-91c2-4b8f-8075-28afda59e510
X-WR-CALDESC:
X-WR-RELCALID:cc4820424f29f4169f091217023fcc90
X-WR-TIMEZONE:America/Chicago
BEGIN:VTIMEZONE
TZID:America/Chicago
BEGIN:STANDARD
TZNAME:CST
DTSTART:20201101T020000
TZOFFSETFROM:-0500
TZOFFSETTO:-0600
RDATE:20211107T020000
RDATE:20221106T020000
END:STANDARD
BEGIN:DAYLIGHT
TZNAME:CDT
DTSTART:20210314T020000
TZOFFSETFROM:-0600
TZOFFSETTO:-0500
RDATE:20220313T020000
RDATE:20230312T020000
END:DAYLIGHT
END:VTIMEZONE
BEGIN:VEVENT
UID:5c3e71ed-07db-4689-9dac-f9e5e8e45621
DTSTAMP:20260421T152808Z
DESCRIPTION:
DTSTART;TZID=America/Chicago:20211025T100000
DTEND;TZID=America/Chicago:20211025T113000
LOCATION:
SUMMARY:LPRCA Bi-Annual Meeting
END:VEVENT
END:VCALENDAR
