BEGIN:VCALENDAR
VERSION:2.0
PRODID:-//www.lowerplatte.org//NONSGML kigkonsult.se iCalcreator 2.30.10//
CALSCALE:GREGORIAN
METHOD:PUBLISH
UID:19f4379c-e61e-4b04-8287-95432fa4d3c3
X-WR-CALDESC:
X-WR-RELCALID:cfe4a6dd2dd7a20e6716bb1d45fc8471
X-WR-TIMEZONE:America/Chicago
BEGIN:VTIMEZONE
TZID:America/Chicago
BEGIN:STANDARD
TZNAME:CST
DTSTART:20221106T020000
TZOFFSETFROM:-0500
TZOFFSETTO:-0600
RDATE:20231105T020000
RDATE:20241103T020000
END:STANDARD
BEGIN:DAYLIGHT
TZNAME:CDT
DTSTART:20230312T020000
TZOFFSETFROM:-0600
TZOFFSETTO:-0500
RDATE:20240310T020000
END:DAYLIGHT
END:VTIMEZONE
BEGIN:VEVENT
UID:5a691e45-36f0-426a-864c-047514bcfe71
DTSTAMP:20260422T091100Z
DESCRIPTION:
DTSTART;TZID=America/Chicago:20230713T190000
DTEND;TZID=America/Chicago:20230713T230000
LOCATION:Papio NRD Office
SUMMARY:P-MRNRD Board Meeting
END:VEVENT
END:VCALENDAR
