BEGIN:VCALENDAR
VERSION:2.0
PRODID:-//www.lowerplatte.org//NONSGML kigkonsult.se iCalcreator 2.30.10//
CALSCALE:GREGORIAN
METHOD:PUBLISH
UID:7680fe85-f239-4228-b2bc-023d6d4be703
X-WR-CALDESC:
X-WR-RELCALID:e0b972694a3fbdfdca56a38bb238c99e
X-WR-TIMEZONE:America/Chicago
BEGIN:VTIMEZONE
TZID:America/Chicago
BEGIN:STANDARD
TZNAME:CST
DTSTART:20231105T020000
TZOFFSETFROM:-0500
TZOFFSETTO:-0600
RDATE:20241103T020000
RDATE:20251102T020000
END:STANDARD
BEGIN:DAYLIGHT
TZNAME:CDT
DTSTART:20240310T020000
TZOFFSETFROM:-0600
TZOFFSETTO:-0500
RDATE:20250309T020000
END:DAYLIGHT
END:VTIMEZONE
BEGIN:VEVENT
UID:4e80c7bc-50ba-41ea-916a-d58063d01be8
DTSTAMP:20260419T123715Z
DESCRIPTION:
DTSTART;TZID=America/Chicago:20240515T190000
DTEND;TZID=America/Chicago:20240515T210000
LOCATION:LPSNRD Office\, Lincoln
SUMMARY:LPSNRD Board Meeting
END:VEVENT
END:VCALENDAR
