BEGIN:VCALENDAR
VERSION:2.0
PRODID:-//www.lowerplatte.org//NONSGML kigkonsult.se iCalcreator 2.30.10//
CALSCALE:GREGORIAN
METHOD:PUBLISH
UID:429f910e-0ac1-44fa-bdc3-d3d3513c23ed
X-WR-CALDESC:
X-WR-RELCALID:06fc6149e65475bbc66fb628140a53b2
X-WR-TIMEZONE:America/Chicago
BEGIN:VTIMEZONE
TZID:America/Chicago
BEGIN:STANDARD
TZNAME:CST
DTSTART:20241103T020000
TZOFFSETFROM:-0500
TZOFFSETTO:-0600
RDATE:20251102T020000
RDATE:20261101T020000
END:STANDARD
BEGIN:DAYLIGHT
TZNAME:CDT
DTSTART:20250309T020000
TZOFFSETFROM:-0600
TZOFFSETTO:-0500
RDATE:20260308T020000
END:DAYLIGHT
END:VTIMEZONE
BEGIN:VEVENT
UID:6c3f2b4f-182b-4ae5-92d7-2a444ddb215d
DTSTAMP:20260420T103741Z
DESCRIPTION:
DTSTART;TZID=America/Chicago:20250521T173000
DTEND;TZID=America/Chicago:20250521T193000
LOCATION:LPSNRD Office\, Lincoln
SUMMARY:LPSNRD Board Meeting
END:VEVENT
END:VCALENDAR
