BEGIN:VCALENDAR
VERSION:2.0
PRODID:-//www.lowerplatte.org//NONSGML kigkonsult.se iCalcreator 2.30.10//
CALSCALE:GREGORIAN
METHOD:PUBLISH
UID:156d4484-efa4-49ae-9ac5-3956dce4e36c
X-WR-CALDESC:
X-WR-RELCALID:145c5418a007d9a146518ba2d0724d7d
X-WR-TIMEZONE:America/Chicago
BEGIN:VTIMEZONE
TZID:America/Chicago
BEGIN:STANDARD
TZNAME:CST
DTSTART:20251102T020000
TZOFFSETFROM:-0500
TZOFFSETTO:-0600
RDATE:20261101T020000
END:STANDARD
BEGIN:DAYLIGHT
TZNAME:CDT
DTSTART:20250309T020000
TZOFFSETFROM:-0600
TZOFFSETTO:-0500
RDATE:20260308T020000
RDATE:20270314T020000
END:DAYLIGHT
END:VTIMEZONE
BEGIN:VEVENT
UID:facc1b21-8069-46d6-b89b-5db08d9629f2
DTSTAMP:20260421T134242Z
DESCRIPTION:
DTSTART;TZID=America/Chicago:20260209T180000
DTEND;TZID=America/Chicago:20260209T220000
LOCATION:LPNNRD Office\, Wahoo
SUMMARY:LPNNRD Board Meeting
END:VEVENT
END:VCALENDAR
