BEGIN:VCALENDAR
VERSION:2.0
PRODID:-//www.lowerplatte.org//NONSGML kigkonsult.se iCalcreator 2.30.10//
CALSCALE:GREGORIAN
METHOD:PUBLISH
UID:d5a429c6-e0e0-4206-85a1-e7b06f20dff2
X-WR-CALDESC:
X-WR-RELCALID:9632a6b549dd7c045c9c69fe25bfd6eb
X-WR-TIMEZONE:America/Chicago
BEGIN:VTIMEZONE
TZID:America/Chicago
BEGIN:STANDARD
TZNAME:CST
DTSTART:20251102T020000
TZOFFSETFROM:-0500
TZOFFSETTO:-0600
RDATE:20261101T020000
RDATE:20271107T020000
END:STANDARD
BEGIN:DAYLIGHT
TZNAME:CDT
DTSTART:20260308T020000
TZOFFSETFROM:-0600
TZOFFSETTO:-0500
RDATE:20270314T020000
END:DAYLIGHT
END:VTIMEZONE
BEGIN:VEVENT
UID:a0b903ad-089b-402b-bc86-a4c1e36cb76f
DTSTAMP:20260425T104951Z
DESCRIPTION:
DTSTART;TZID=America/Chicago:20260713T180000
DTEND;TZID=America/Chicago:20260713T220000
LOCATION:LPNNRD Office\, Wahoo
SUMMARY:LPNNRD Board Meeting
END:VEVENT
END:VCALENDAR
