BEGIN:VCALENDAR
VERSION:2.0
PRODID:-//www.lowerplatte.org//NONSGML kigkonsult.se iCalcreator 2.30.10//
CALSCALE:GREGORIAN
METHOD:PUBLISH
UID:7596be84-57c4-41bf-b0dd-a335249e3c08
X-WR-CALDESC:
X-WR-RELCALID:738f134cd9dad97083fcb0ba3454a316
X-WR-TIMEZONE:America/Chicago
BEGIN:VTIMEZONE
TZID:America/Chicago
BEGIN:STANDARD
TZNAME:CST
DTSTART:20261101T020000
TZOFFSETFROM:-0500
TZOFFSETTO:-0600
RDATE:20271107T020000
END:STANDARD
BEGIN:DAYLIGHT
TZNAME:CDT
DTSTART:20260308T020000
TZOFFSETFROM:-0600
TZOFFSETTO:-0500
RDATE:20270314T020000
RDATE:20280312T020000
END:DAYLIGHT
END:VTIMEZONE
BEGIN:VEVENT
UID:b85f2ad1-1d20-49b3-98d2-b1c9b57d1d69
DTSTAMP:20260423T210220Z
DESCRIPTION:
DTSTART;TZID=America/Chicago:20261210T190000
DTEND;TZID=America/Chicago:20261210T230000
LOCATION:Papio NRD Office
SUMMARY:P-MRNRD Board Meeting
END:VEVENT
END:VCALENDAR
