BEGIN:VCALENDAR
VERSION:2.0
PRODID:-//www.lowerplatte.org//NONSGML kigkonsult.se iCalcreator 2.30.10//
CALSCALE:GREGORIAN
METHOD:PUBLISH
UID:e0fe6d6e-0f13-4fbc-b015-8d91f97db533
X-WR-CALDESC:
X-WR-RELCALID:66f9b8e08b7ce29dc7dc212d8964ff15
X-WR-TIMEZONE:America/Chicago
BEGIN:VTIMEZONE
TZID:America/Chicago
BEGIN:STANDARD
TZNAME:CST
DTSTART:20261101T020000
TZOFFSETFROM:-0500
TZOFFSETTO:-0600
RDATE:20271107T020000
END:STANDARD
BEGIN:DAYLIGHT
TZNAME:CDT
DTSTART:20260308T020000
TZOFFSETFROM:-0600
TZOFFSETTO:-0500
RDATE:20270314T020000
RDATE:20280312T020000
END:DAYLIGHT
END:VTIMEZONE
BEGIN:VEVENT
UID:e0038455-cf9e-4d94-a8af-571a3a036c61
DTSTAMP:20260424T002509Z
DESCRIPTION:
DTSTART;TZID=America/Chicago:20270211T190000
DTEND;TZID=America/Chicago:20270211T230000
LOCATION:Papio NRD Office
SUMMARY:P-MRNRD Board Meeting
END:VEVENT
END:VCALENDAR
