BEGIN:VCALENDAR
VERSION:2.0
PRODID:-//www.lowerplatte.org//NONSGML kigkonsult.se iCalcreator 2.30.10//
CALSCALE:GREGORIAN
METHOD:PUBLISH
UID:383e39e9-3f2f-48b0-b8d5-988a074492bc
X-WR-CALDESC:
X-WR-RELCALID:b7242fbbb0df63eb1a05c18511085bb8
X-WR-TIMEZONE:America/Chicago
BEGIN:VTIMEZONE
TZID:America/Chicago
BEGIN:STANDARD
TZNAME:CST
DTSTART:20261101T020000
TZOFFSETFROM:-0500
TZOFFSETTO:-0600
RDATE:20271107T020000
END:STANDARD
BEGIN:DAYLIGHT
TZNAME:CDT
DTSTART:20270314T020000
TZOFFSETFROM:-0600
TZOFFSETTO:-0500
RDATE:20280312T020000
END:DAYLIGHT
END:VTIMEZONE
BEGIN:VEVENT
UID:6050229b-653a-47ea-9ac8-6b3245732f63
DTSTAMP:20260424T020748Z
DESCRIPTION:
DTSTART;TZID=America/Chicago:20270311T190000
DTEND;TZID=America/Chicago:20270311T230000
LOCATION:Papio NRD Office
SUMMARY:P-MRNRD Board Meeting
END:VEVENT
END:VCALENDAR
