BEGIN:VCALENDAR
VERSION:2.0
PRODID:-//www.lowerplatte.org//NONSGML kigkonsult.se iCalcreator 2.30.10//
CALSCALE:GREGORIAN
METHOD:PUBLISH
UID:59f5a311-029d-4a50-9b9a-03388d548909
X-WR-CALDESC:
X-WR-RELCALID:16b1ae33a7592c11e5389430c278b1a1
X-WR-TIMEZONE:America/Chicago
BEGIN:VTIMEZONE
TZID:America/Chicago
BEGIN:STANDARD
TZNAME:CST
DTSTART:20261101T020000
TZOFFSETFROM:-0500
TZOFFSETTO:-0600
RDATE:20271107T020000
RDATE:20281105T020000
END:STANDARD
BEGIN:DAYLIGHT
TZNAME:CDT
DTSTART:20270314T020000
TZOFFSETFROM:-0600
TZOFFSETTO:-0500
RDATE:20280312T020000
END:DAYLIGHT
END:VTIMEZONE
BEGIN:VEVENT
UID:df7a1f1f-21bc-4ade-8e37-d9c7e0987a29
DTSTAMP:20260424T045021Z
DESCRIPTION:
DTSTART;TZID=America/Chicago:20270510T180000
DTEND;TZID=America/Chicago:20270510T220000
LOCATION:LPNNRD Office\, Wahoo
SUMMARY:LPNNRD Board Meeting
END:VEVENT
END:VCALENDAR
